OziExplorer Map Data File Version 2.2
13-35-3.jpg
C:\OziExplorer\Maps\13-35-3.jpg
1 ,Map Code,
Pulkovo 1942,WGS 84, 0.0000, 0.0000,WGS 84
Reserved 1
Reserved 2
Magnetic Variation,,,E
Map Projection,Transverse Mercator,PolyCal,No,AutoCalOnly,No,BSBUseWPX,No
Point01,xy, 221, 237,in, deg, 50, 00,N, 24, 00,E, grid, , , ,N
Point02,xy, 1914, 248,in, deg, 50, 00,N, 25, 30,E, grid, , , ,N
Point03,xy, 3606, 229,in, deg, 50, 00,N, 27, 00,E, grid, , , ,N
Point04,xy, 190, 1992,in, deg, 49, 00,N, 24, 00,E, grid, , , ,N
Point05,xy, 1919, 2003,in, deg, 49, 00,N, 25, 30,E, grid, , , ,N
Point06,xy, 3647, 1984,in, deg, 49, 00,N, 27, 00,E, grid, , , ,N
Point07,xy, 161, 3747,in, deg, 48, 00,N, 24, 00,E, grid, , , ,N
Point08,xy, 1922, 3759,in, deg, 48, 00,N, 25, 30,E, grid, , , ,N
Point09,xy, 3688, 3736,in, deg, 48, 00,N, 27, 00,E, grid, , , ,N
Point10,xy, , ,in, deg, , ,, , ,, grid, , , ,
Point11,xy, , ,in, deg, , ,, , ,, grid, , , ,
Point12,xy, , ,in, deg, , ,, , ,, grid, , , ,
Point13,xy, , ,in, deg, , ,, , ,, grid, , , ,
Point14,xy, , ,in, deg, , ,, , ,, grid, , , ,
Point15,xy, , ,in, deg, , ,, , ,, grid, , , ,
Point16,xy, , ,in, deg, , ,, , ,, grid, , , ,
Point17,xy, , ,in, deg, , ,, , ,, grid, , , ,
Point18,xy, , ,in, deg, , ,, , ,, grid, , , ,
Point19,xy, , ,in, deg, , ,, , ,, grid, , , ,
Point20,xy, , ,in, deg, , ,, , ,, grid, , , ,
Point21,xy, , ,in, deg, , ,, , ,, grid, , , ,
Point22,xy, , ,in, deg, , ,, , ,, grid, , , ,
Point23,xy, , ,in, deg, , ,, , ,, grid, , , ,
Point24,xy, , ,in, deg, , ,, , ,, grid, , , ,
Point25,xy, , ,in, deg, , ,, , ,, grid, , , ,
Point26,xy, , ,in, deg, , ,, , ,, grid, , , ,
Point27,xy, , ,in, deg, , ,, , ,, grid, , , ,
Point28,xy, , ,in, deg, , ,, , ,, grid, , , ,
Point29,xy, , ,in, deg, , ,, , ,, grid, , , ,
Point30,xy, , ,in, deg, , ,, , ,, grid, , , ,
Projection Setup, 0.000000000, 28.500000000, 1.000000000, 500000.00, 0.00,,,,,
Map Feature = MF ; Map Comment = MC These follow if they exist
Track File = TF These follow if they exist
Moving Map Parameters = MM? These follow if they exist
MM0,Yes
MMPNUM,4
MMPXY,1,221,237
MMPXY,2,3608,226
MMPXY,3,3687,3737
MMPXY,4,161,3747
MMPLL,1, 24.000703, 49.999310
MMPLL,2, 27.000842, 50.001708
MMPLL,3, 27.000516, 47.999440
MMPLL,4, 24.000078, 48.000169
MM1B,63.473017
MOP,Map Open Position,0,0
IWH,Map Image Width/Height,3859,4561
