OziExplorer Map Data File Version 2.2
M-35-56 Новоград-Волынский
M-35-056.jpg
1 ,Map Code,
Pulkovo 1942 (1),WGS 84, 0.0000, 0.0000,WGS 84
Reserved 1
Reserved 2
Magnetic Variation,,,E
Map Projection,Transverse Mercator,PolyCal,No,AutoCalOnly,No,BSBUseWPX,No
Point01,xy, 109, 137,in, deg, 50, 40.0000,N, 27, 30.0000,E, grid, , , ,N
Point02,xy, 1154, 142,in, deg, 50, 40.0000,N, 27, 45.0000,E, grid, , , ,N
Point03,xy, 2199, 146,in, deg, 50, 40.0000,N, 28, 0.0000,E, grid, , , ,N
Point04,xy, 101, 1235,in, deg, 50, 30.0000,N, 27, 30.0000,E, grid, , , ,N
Point05,xy, 1152, 1239,in, deg, 50, 30.0000,N, 27, 45.0000,E, grid, , , ,N
Point06,xy, 2199, 1241,in, deg, 50, 30.0000,N, 28, 0.0000,E, grid, , , ,N
Point07,xy, 93, 2332,in, deg, 50, 20.0000,N, 27, 30.0000,E, grid, , , ,N
Point08,xy, 1146, 2334,in, deg, 50, 20.0000,N, 27, 45.0000,E, grid, , , ,N
Point09,xy, 2198, 2336,in, deg, 50, 20.0000,N, 28, 0.0000,E, grid, , , ,N
Point10,xy, , ,in, deg, , ,N, , ,E, grid, , , ,N
Point11,xy, , ,in, deg, , ,N, , ,E, grid, , , ,N
Point12,xy, , ,in, deg, , ,N, , ,E, grid, , , ,N
Point13,xy, , ,in, deg, , ,N, , ,E, grid, , , ,N
Point14,xy, , ,in, deg, , ,N, , ,E, grid, , , ,N
Point15,xy, , ,in, deg, , ,N, , ,E, grid, , , ,N
Point16,xy, , ,in, deg, , ,N, , ,E, grid, , , ,N
Point17,xy, , ,in, deg, , ,N, , ,E, grid, , , ,N
Point18,xy, , ,in, deg, , ,N, , ,E, grid, , , ,N
Point19,xy, , ,in, deg, , ,N, , ,E, grid, , , ,N
Point20,xy, , ,in, deg, , ,N, , ,E, grid, , , ,N
Point21,xy, , ,in, deg, , ,N, , ,E, grid, , , ,N
Point22,xy, , ,in, deg, , ,N, , ,E, grid, , , ,N
Point23,xy, , ,in, deg, , ,N, , ,E, grid, , , ,N
Point24,xy, , ,in, deg, , ,N, , ,E, grid, , , ,N
Point25,xy, , ,in, deg, , ,N, , ,E, grid, , , ,N
Point26,xy, , ,in, deg, , ,N, , ,E, grid, , , ,N
Point27,xy, , ,in, deg, , ,N, , ,E, grid, , , ,N
Point28,xy, , ,in, deg, , ,N, , ,E, grid, , , ,N
Point29,xy, , ,in, deg, , ,N, , ,E, grid, , , ,N
Point30,xy, , ,in, deg, , ,N, , ,E, grid, , , ,N
Projection Setup, 0.000000000, 27.000000000, 1.000000000, 5500000.00, 0.00,,,,,
Map Feature = MF ; Map Comment = MC These follow if they exist
Track File = TF These follow if they exist
Moving Map Parameters = MM? These follow if they exist
MM0,Yes
MMPNUM,4
MMPXY,1,109,137
MMPXY,2,2199,146
MMPXY,3,2198,2336
MMPXY,4,93,2332
MMPLL,1, 27.500000, 50.666667
MMPLL,2, 28.000000, 50.666667
MMPLL,3, 28.000000, 50.333333
MMPLL,4, 27.500000, 50.333333
MM1B,16.905283
Other Grid Setup
GRGRID,No,2 Km,No,16711680,255,No Labels,0,16777215,8,1,Yes,No,No,x
MOP,Map Open Position,0,0
IWH,Map Image Width/Height,2301,2567
